Package: vsclust Version: 1.8.0 Command: /home/biocbuild/bbs-3.20-bioc/R/bin/R CMD INSTALL vsclust StartedAt: 2025-01-30 15:31:38 -0500 (Thu, 30 Jan 2025) EndedAt: 2025-01-30 15:32:10 -0500 (Thu, 30 Jan 2025) EllapsedTime: 32.6 seconds RetCode: 0 Status: OK