Package: vsclust Version: 1.8.0 Command: /home/biocbuild/bbs-3.20-bioc/R/bin/R CMD check --install=check:vsclust.install-out.txt --library=/home/biocbuild/bbs-3.20-bioc/R/site-library --timings vsclust_1.8.0.tar.gz StartedAt: 2025-01-31 03:22:34 -0500 (Fri, 31 Jan 2025) EndedAt: 2025-01-31 03:28:39 -0500 (Fri, 31 Jan 2025) EllapsedTime: 364.4 seconds RetCode: 0 Status: WARNINGS CheckDir: vsclust.Rcheck Warnings: 1