Package: vsclust Version: 1.8.0 Command: /home/biocbuild/bbs-3.20-bioc/R/bin/R CMD build --keep-empty-dirs --no-resave-data --md5 vsclust StartedAt: 2025-01-30 19:37:10 -0500 (Thu, 30 Jan 2025) EndedAt: 2025-01-30 19:39:09 -0500 (Thu, 30 Jan 2025) EllapsedTime: 118.1 seconds RetCode: 0 Status: OK PackageFile: vsclust_1.8.0.tar.gz PackageFileSize: 3.545 MiB