Package: vsclust Version: 1.8.0 Command: rm -rf vsclust.buildbin-libdir && mkdir vsclust.buildbin-libdir && /Users/biocbuild/BBS/utils/build-universal.sh vsclust_1.8.0.tar.gz /Library/Frameworks/R.framework/Resources/bin/R vsclust.buildbin-libdir StartedAt: 2025-02-01 17:20:41 -0500 (Sat, 01 Feb 2025) EndedAt: 2025-02-01 17:21:22 -0500 (Sat, 01 Feb 2025) EllapsedTime: 40.7 seconds RetCode: 0 Status: OK PackageFile: vsclust_1.8.0.tgz PackageFileSize: 3.833 MiB