Package: viper Version: 1.40.0 Command: chmod a+r viper -R && F:\biocbuild\bbs-3.20-bioc\R\bin\R.exe CMD build --keep-empty-dirs --no-resave-data viper StartedAt: 2025-01-30 22:29:42 -0500 (Thu, 30 Jan 2025) EndedAt: 2025-01-30 22:34:56 -0500 (Thu, 30 Jan 2025) EllapsedTime: 313.6 seconds RetCode: 0 Status: OK PackageFile: viper_1.40.0.tar.gz PackageFileSize: 314.1 KiB