Package: velociraptor Version: 1.16.0 Command: chmod a+r velociraptor -R && F:\biocbuild\bbs-3.20-bioc\R\bin\R.exe CMD build --keep-empty-dirs --no-resave-data velociraptor StartedAt: 2025-01-30 22:29:05 -0500 (Thu, 30 Jan 2025) EndedAt: 2025-01-30 22:32:34 -0500 (Thu, 30 Jan 2025) EllapsedTime: 208.8 seconds RetCode: 0 Status: OK PackageFile: velociraptor_1.16.0.tar.gz PackageFileSize: 559.1 KiB