Package: vbmp Version: 1.74.0 Command: /Library/Frameworks/R.framework/Resources/bin/R CMD INSTALL vbmp StartedAt: 2025-01-30 15:06:10 -0500 (Thu, 30 Jan 2025) EndedAt: 2025-01-30 15:06:27 -0500 (Thu, 30 Jan 2025) EllapsedTime: 16.8 seconds RetCode: 0 Status: OK