Package: vbmp Version: 1.74.0 Command: /Library/Frameworks/R.framework/Resources/bin/R CMD INSTALL vbmp StartedAt: 2024-11-08 15:12:15 -0500 (Fri, 08 Nov 2024) EndedAt: 2024-11-08 15:12:18 -0500 (Fri, 08 Nov 2024) EllapsedTime: 3.2 seconds RetCode: 0 Status: OK