Package: variancePartition Version: 1.36.3 Command: /home/biocbuild/R/R/bin/R CMD check --install=check:variancePartition.install-out.txt --library=/home/biocbuild/R/R/site-library --no-vignettes --timings variancePartition_1.36.3.tar.gz StartedAt: 2025-01-31 11:22:38 -0000 (Fri, 31 Jan 2025) EndedAt: 2025-01-31 11:32:43 -0000 (Fri, 31 Jan 2025) EllapsedTime: 604.9 seconds RetCode: 0 Status: OK CheckDir: variancePartition.Rcheck Warnings: 0