Package: updateObject Version: 1.10.0 Command: /home/biocbuild/R/R/bin/R CMD build --keep-empty-dirs --no-resave-data updateObject StartedAt: 2025-01-31 03:22:21 -0000 (Fri, 31 Jan 2025) EndedAt: 2025-01-31 03:22:48 -0000 (Fri, 31 Jan 2025) EllapsedTime: 27.0 seconds RetCode: 0 Status: OK PackageFile: updateObject_1.10.0.tar.gz PackageFileSize: 1.313 MiB