Package: updateObject Version: 1.10.0 Command: chmod a+r updateObject -R && F:\biocbuild\bbs-3.20-bioc\R\bin\R.exe CMD build --keep-empty-dirs --no-resave-data updateObject StartedAt: 2025-01-30 22:27:34 -0500 (Thu, 30 Jan 2025) EndedAt: 2025-01-30 22:28:14 -0500 (Thu, 30 Jan 2025) EllapsedTime: 40.2 seconds RetCode: 0 Status: OK PackageFile: updateObject_1.10.0.tar.gz PackageFileSize: 1.289 MiB