Package: updateObject Version: 1.10.0 Command: rm -rf updateObject.buildbin-libdir && mkdir updateObject.buildbin-libdir && F:\biocbuild\bbs-3.20-bioc\R\bin\R.exe CMD INSTALL --build --library=updateObject.buildbin-libdir updateObject_1.10.0.tar.gz StartedAt: 2025-01-31 09:50:31 -0500 (Fri, 31 Jan 2025) EndedAt: 2025-01-31 09:50:56 -0500 (Fri, 31 Jan 2025) EllapsedTime: 24.4 seconds RetCode: 0 Status: OK PackageFile: updateObject_1.10.0.zip PackageFileSize: 1.345 MiB