Package: universalmotif Version: 1.24.2 Command: /home/biocbuild/R/R/bin/R CMD INSTALL universalmotif StartedAt: 2025-01-30 20:15:14 -0000 (Thu, 30 Jan 2025) EndedAt: 2025-01-30 20:17:55 -0000 (Thu, 30 Jan 2025) EllapsedTime: 161.0 seconds RetCode: 0 Status: OK