Package: universalmotif Version: 1.24.2 Command: /home/biocbuild/R/R/bin/R CMD build --keep-empty-dirs --no-resave-data universalmotif StartedAt: 2025-01-31 03:22:19 -0000 (Fri, 31 Jan 2025) EndedAt: 2025-01-31 03:27:53 -0000 (Fri, 31 Jan 2025) EllapsedTime: 334.3 seconds RetCode: 0 Status: OK PackageFile: universalmotif_1.24.2.tar.gz PackageFileSize: 3.583 MiB