Package: universalmotif Version: 1.24.2 Command: chmod a+r universalmotif -R && F:\biocbuild\bbs-3.20-bioc\R\bin\R.exe CMD build --keep-empty-dirs --no-resave-data universalmotif StartedAt: 2025-01-30 22:27:32 -0500 (Thu, 30 Jan 2025) EndedAt: 2025-01-30 22:34:12 -0500 (Thu, 30 Jan 2025) EllapsedTime: 400.3 seconds RetCode: 0 Status: OK PackageFile: universalmotif_1.24.2.tar.gz PackageFileSize: 3.555 MiB