Package: universalmotif Version: 1.24.2 Command: /home/biocbuild/bbs-3.20-bioc/R/bin/R CMD check --install=check:universalmotif.install-out.txt --library=/home/biocbuild/bbs-3.20-bioc/R/site-library --timings universalmotif_1.24.2.tar.gz StartedAt: 2025-01-31 03:17:05 -0500 (Fri, 31 Jan 2025) EndedAt: 2025-01-31 03:22:01 -0500 (Fri, 31 Jan 2025) EllapsedTime: 296.3 seconds RetCode: 0 Status: OK CheckDir: universalmotif.Rcheck Warnings: 0