Package: universalmotif Version: 1.24.2 Command: rm -rf universalmotif.buildbin-libdir && mkdir universalmotif.buildbin-libdir && /Users/biocbuild/BBS/utils/build-universal.sh universalmotif_1.24.2.tar.gz /Library/Frameworks/R.framework/Resources/bin/R universalmotif.buildbin-libdir StartedAt: 2025-02-01 17:18:01 -0500 (Sat, 01 Feb 2025) EndedAt: 2025-02-01 17:19:58 -0500 (Sat, 01 Feb 2025) EllapsedTime: 117.4 seconds RetCode: 0 Status: OK PackageFile: universalmotif_1.24.2.tgz PackageFileSize: 5.627 MiB