Package: uncoverappLib Version: 1.16.0 Command: F:\biocbuild\bbs-3.20-bioc\R\bin\R.exe CMD check --no-multiarch --install=check:uncoverappLib.install-out.txt --library=F:\biocbuild\bbs-3.20-bioc\R\library --no-vignettes --timings uncoverappLib_1.16.0.tar.gz StartedAt: 2025-01-31 07:32:24 -0500 (Fri, 31 Jan 2025) EndedAt: 2025-01-31 07:39:52 -0500 (Fri, 31 Jan 2025) EllapsedTime: 448.0 seconds RetCode: 0 Status: OK CheckDir: uncoverappLib.Rcheck Warnings: 0