Package: tximeta Version: 1.24.0 Command: /home/biocbuild/bbs-3.20-bioc/R/bin/R CMD INSTALL tximeta StartedAt: 2025-01-30 15:30:10 -0500 (Thu, 30 Jan 2025) EndedAt: 2025-01-30 15:30:54 -0500 (Thu, 30 Jan 2025) EllapsedTime: 44.2 seconds RetCode: 0 Status: OK