Package: tripr Version: 1.12.0 Command: /home/biocbuild/bbs-3.20-bioc/R/bin/R CMD build --keep-empty-dirs --no-resave-data --md5 tripr StartedAt: 2025-01-30 19:32:35 -0500 (Thu, 30 Jan 2025) EndedAt: 2025-01-30 19:33:12 -0500 (Thu, 30 Jan 2025) EllapsedTime: 37.0 seconds RetCode: 0 Status: OK PackageFile: tripr_1.12.0.tar.gz PackageFileSize: 2.941 MiB