Package: tripr Version: 1.12.0 Command: /Library/Frameworks/R.framework/Resources/bin/R CMD build --keep-empty-dirs --no-resave-data tripr StartedAt: 2025-01-31 09:49:01 -0500 (Fri, 31 Jan 2025) EndedAt: 2025-01-31 09:49:53 -0500 (Fri, 31 Jan 2025) EllapsedTime: 52.7 seconds RetCode: 0 Status: OK PackageFile: tripr_1.12.0.tar.gz PackageFileSize: 2.938 MiB