Package: triplex Version: 1.46.0 Command: F:\biocbuild\bbs-3.20-bioc\R\bin\R.exe CMD INSTALL triplex StartedAt: 2025-01-30 15:37:06 -0500 (Thu, 30 Jan 2025) EndedAt: 2025-01-30 15:37:56 -0500 (Thu, 30 Jan 2025) EllapsedTime: 50.5 seconds RetCode: 0 Status: OK