Package: triplex Version: 1.46.0 Command: /home/biocbuild/bbs-3.20-bioc/R/bin/R CMD INSTALL triplex StartedAt: 2025-01-30 15:10:39 -0500 (Thu, 30 Jan 2025) EndedAt: 2025-01-30 15:10:55 -0500 (Thu, 30 Jan 2025) EllapsedTime: 15.2 seconds RetCode: 0 Status: OK