Package: trigger Version: 1.52.0 Command: chmod a+r trigger -R && F:\biocbuild\bbs-3.20-bioc\R\bin\R.exe CMD build --keep-empty-dirs --no-resave-data trigger StartedAt: 2025-01-30 22:24:14 -0500 (Thu, 30 Jan 2025) EndedAt: 2025-01-30 22:27:13 -0500 (Thu, 30 Jan 2025) EllapsedTime: 178.8 seconds RetCode: 0 Status: OK PackageFile: trigger_1.52.0.tar.gz PackageFileSize: 1.707 MiB