Package: treekoR Version: 1.14.0 Command: /home/biocbuild/bbs-3.20-bioc/R/bin/R CMD INSTALL treekoR StartedAt: 2024-11-19 17:09:11 -0500 (Tue, 19 Nov 2024) EndedAt: 2024-11-19 17:09:48 -0500 (Tue, 19 Nov 2024) EllapsedTime: 37.3 seconds RetCode: 0 Status: OK