Package: treekoR Version: 1.14.0 Command: /home/biocbuild/R/R/bin/R CMD check --install=check:treekoR.install-out.txt --library=/home/biocbuild/R/R/site-library --no-vignettes --timings treekoR_1.14.0.tar.gz StartedAt: 2025-01-31 11:14:14 -0000 (Fri, 31 Jan 2025) EndedAt: 2025-01-31 11:20:06 -0000 (Fri, 31 Jan 2025) EllapsedTime: 352.5 seconds RetCode: 0 Status: OK CheckDir: treekoR.Rcheck Warnings: 0