Package: treekoR Version: 1.14.0 Command: /home/biocbuild/bbs-3.20-bioc/R/bin/R CMD check --install=check:treekoR.install-out.txt --library=/home/biocbuild/bbs-3.20-bioc/R/site-library --timings treekoR_1.14.0.tar.gz StartedAt: 2025-01-31 03:10:01 -0500 (Fri, 31 Jan 2025) EndedAt: 2025-01-31 03:14:55 -0500 (Fri, 31 Jan 2025) EllapsedTime: 293.3 seconds RetCode: 0 Status: OK CheckDir: treekoR.Rcheck Warnings: 0