Package: treeclimbR Version: 1.2.0 Command: rm -rf treeclimbR.buildbin-libdir && mkdir treeclimbR.buildbin-libdir && F:\biocbuild\bbs-3.20-bioc\R\bin\R.exe CMD INSTALL --build --library=treeclimbR.buildbin-libdir treeclimbR_1.2.0.tar.gz StartedAt: 2025-01-31 09:48:55 -0500 (Fri, 31 Jan 2025) EndedAt: 2025-01-31 09:49:46 -0500 (Fri, 31 Jan 2025) EllapsedTime: 51.4 seconds RetCode: 0 Status: OK PackageFile: treeclimbR_1.2.0.zip PackageFileSize: 730.8 KiB