Package: traviz Version: 1.12.0 Command: /home/biocbuild/bbs-3.20-bioc/R/bin/R CMD INSTALL traviz StartedAt: 2025-01-30 15:31:05 -0500 (Thu, 30 Jan 2025) EndedAt: 2025-01-30 15:31:32 -0500 (Thu, 30 Jan 2025) EllapsedTime: 27.0 seconds RetCode: 0 Status: OK