Package: traviz Version: 1.12.0 Command: /home/biocbuild/bbs-3.20-bioc/R/bin/R CMD check --install=check:traviz.install-out.txt --library=/home/biocbuild/bbs-3.20-bioc/R/site-library --timings traviz_1.12.0.tar.gz StartedAt: 2025-01-31 03:09:27 -0500 (Fri, 31 Jan 2025) EndedAt: 2025-01-31 03:13:09 -0500 (Fri, 31 Jan 2025) EllapsedTime: 221.2 seconds RetCode: 1 Status: ERROR CheckDir: traviz.Rcheck Warnings: NA