Package: transformGamPoi Version: 1.12.0 Command: /home/biocbuild/R/R/bin/R CMD check --install=check:transformGamPoi.install-out.txt --library=/home/biocbuild/R/R/site-library --no-vignettes --timings transformGamPoi_1.12.0.tar.gz StartedAt: 2025-01-31 11:11:37 -0000 (Fri, 31 Jan 2025) EndedAt: 2025-01-31 11:14:14 -0000 (Fri, 31 Jan 2025) EllapsedTime: 156.1 seconds RetCode: 0 Status: OK CheckDir: transformGamPoi.Rcheck Warnings: 0