Package: transformGamPoi Version: 1.12.0 Command: /home/biocbuild/R/R/bin/R CMD build --keep-empty-dirs --no-resave-data transformGamPoi StartedAt: 2025-01-31 03:15:59 -0000 (Fri, 31 Jan 2025) EndedAt: 2025-01-31 03:17:05 -0000 (Fri, 31 Jan 2025) EllapsedTime: 66.1 seconds RetCode: 0 Status: OK PackageFile: transformGamPoi_1.12.0.tar.gz PackageFileSize: 541.7 KiB