Package: transcriptR Version: 1.34.0 Command: /home/biocbuild/R/R/bin/R CMD check --install=check:transcriptR.install-out.txt --library=/home/biocbuild/R/R/site-library --no-vignettes --timings transcriptR_1.34.0.tar.gz StartedAt: 2025-01-31 11:11:25 -0000 (Fri, 31 Jan 2025) EndedAt: 2025-01-31 11:19:29 -0000 (Fri, 31 Jan 2025) EllapsedTime: 483.6 seconds RetCode: 0 Status: OK CheckDir: transcriptR.Rcheck Warnings: 0