Package: transcriptR Version: 1.34.0 Command: F:\biocbuild\bbs-3.20-bioc\R\bin\R.exe CMD INSTALL transcriptR StartedAt: 2025-01-30 16:40:16 -0500 (Thu, 30 Jan 2025) EndedAt: 2025-01-30 16:41:34 -0500 (Thu, 30 Jan 2025) EllapsedTime: 77.5 seconds RetCode: 0 Status: OK