Package: transcriptR Version: 1.34.0 Command: /Library/Frameworks/R.framework/Resources/bin/R CMD build --keep-empty-dirs --no-resave-data transcriptR StartedAt: 2025-01-30 23:30:17 -0500 (Thu, 30 Jan 2025) EndedAt: 2025-01-30 23:33:13 -0500 (Thu, 30 Jan 2025) EllapsedTime: 176.4 seconds RetCode: 0 Status: OK PackageFile: transcriptR_1.34.0.tar.gz PackageFileSize: 3.573 MiB