Package: tpSVG Version: 1.2.0 Command: /home/biocbuild/bbs-3.20-bioc/R/bin/R CMD INSTALL tpSVG StartedAt: 2024-11-19 17:10:57 -0500 (Tue, 19 Nov 2024) EndedAt: 2024-11-19 17:11:19 -0500 (Tue, 19 Nov 2024) EllapsedTime: 22.5 seconds RetCode: 0 Status: OK