Package: topconfects Version: 1.22.0 Command: /home/biocbuild/R/R/bin/R CMD build --keep-empty-dirs --no-resave-data topconfects StartedAt: 2025-01-31 03:14:07 -0000 (Fri, 31 Jan 2025) EndedAt: 2025-01-31 03:16:49 -0000 (Fri, 31 Jan 2025) EllapsedTime: 161.2 seconds RetCode: 0 Status: OK PackageFile: topconfects_1.22.0.tar.gz PackageFileSize: 1.459 MiB