Package: tidysbml Version: 1.0.0 Command: /home/biocbuild/bbs-3.20-bioc/R/bin/R CMD build --keep-empty-dirs --no-resave-data --md5 tidysbml StartedAt: 2025-01-30 19:28:17 -0500 (Thu, 30 Jan 2025) EndedAt: 2025-01-30 19:28:33 -0500 (Thu, 30 Jan 2025) EllapsedTime: 16.0 seconds RetCode: 0 Status: OK PackageFile: tidysbml_1.0.0.tar.gz PackageFileSize: 307.3 KiB