Package: tidySpatialExperiment Version: 1.2.0 Command: chmod a+r tidySpatialExperiment -R && F:\biocbuild\bbs-3.20-bioc\R\bin\R.exe CMD build --keep-empty-dirs --no-resave-data tidySpatialExperiment StartedAt: 2025-01-30 22:18:35 -0500 (Thu, 30 Jan 2025) EndedAt: 2025-01-30 22:19:58 -0500 (Thu, 30 Jan 2025) EllapsedTime: 82.7 seconds RetCode: 0 Status: OK PackageFile: tidySpatialExperiment_1.2.0.tar.gz PackageFileSize: 4.215 MiB