Package: tidySpatialExperiment Version: 1.2.0 Command: /Library/Frameworks/R.framework/Resources/bin/R CMD check --install=check:tidySpatialExperiment.install-out.txt --library=/Library/Frameworks/R.framework/Resources/library --no-vignettes --timings tidySpatialExperiment_1.2.0.tar.gz StartedAt: 2025-01-31 11:10:27 -0500 (Fri, 31 Jan 2025) EndedAt: 2025-01-31 11:19:17 -0500 (Fri, 31 Jan 2025) EllapsedTime: 530.3 seconds RetCode: 0 Status: OK CheckDir: tidySpatialExperiment.Rcheck Warnings: 0