Package: tidySpatialExperiment Version: 1.2.0 Command: /Library/Frameworks/R.framework/Resources/bin/R CMD INSTALL tidySpatialExperiment StartedAt: 2025-01-30 16:52:18 -0500 (Thu, 30 Jan 2025) EndedAt: 2025-01-30 16:52:51 -0500 (Thu, 30 Jan 2025) EllapsedTime: 33.0 seconds RetCode: 0 Status: OK