Package: tidySingleCellExperiment Version: 1.15.1 Command: F:\biocbuild\bbs-3.20-bioc\R\bin\R.exe CMD INSTALL tidySingleCellExperiment StartedAt: 2024-06-09 16:20:14 -0400 (Sun, 09 Jun 2024) EndedAt: 2024-06-09 16:20:57 -0400 (Sun, 09 Jun 2024) EllapsedTime: 43.4 seconds RetCode: 0 Status: OK