Package: tidySingleCellExperiment Version: 1.16.0 Command: /home/biocbuild/bbs-3.20-bioc/R/bin/R CMD check --install=check:tidySingleCellExperiment.install-out.txt --library=/home/biocbuild/bbs-3.20-bioc/R/site-library --timings tidySingleCellExperiment_1.16.0.tar.gz StartedAt: 2025-01-31 03:00:36 -0500 (Fri, 31 Jan 2025) EndedAt: 2025-01-31 03:04:55 -0500 (Fri, 31 Jan 2025) EllapsedTime: 259.2 seconds RetCode: 0 Status: OK CheckDir: tidySingleCellExperiment.Rcheck Warnings: 0