Package: tidyFlowCore Version: 1.0.0 Command: F:\biocbuild\bbs-3.20-bioc\R\bin\R.exe CMD check --no-multiarch --install=check:tidyFlowCore.install-out.txt --library=F:\biocbuild\bbs-3.20-bioc\R\library --no-vignettes --timings tidyFlowCore_1.0.0.tar.gz StartedAt: 2025-01-31 07:13:02 -0500 (Fri, 31 Jan 2025) EndedAt: 2025-01-31 07:15:04 -0500 (Fri, 31 Jan 2025) EllapsedTime: 122.0 seconds RetCode: 0 Status: OK CheckDir: tidyFlowCore.Rcheck Warnings: 0