Package: tidyFlowCore Version: 1.0.0 Command: chmod a+r tidyFlowCore -R && F:\biocbuild\bbs-3.20-bioc\R\bin\R.exe CMD build --keep-empty-dirs --no-resave-data tidyFlowCore StartedAt: 2025-01-30 22:17:56 -0500 (Thu, 30 Jan 2025) EndedAt: 2025-01-30 22:21:57 -0500 (Thu, 30 Jan 2025) EllapsedTime: 241.3 seconds RetCode: 0 Status: OK PackageFile: tidyFlowCore_1.0.0.tar.gz PackageFileSize: 644.4 KiB