Package: tidyFlowCore Version: 1.0.0 Command: rm -rf tidyFlowCore.buildbin-libdir && mkdir tidyFlowCore.buildbin-libdir && F:\biocbuild\bbs-3.20-bioc\R\bin\R.exe CMD INSTALL --build --library=tidyFlowCore.buildbin-libdir tidyFlowCore_1.0.0.tar.gz StartedAt: 2025-01-31 09:46:47 -0500 (Fri, 31 Jan 2025) EndedAt: 2025-01-31 09:47:21 -0500 (Fri, 31 Jan 2025) EllapsedTime: 34.2 seconds RetCode: 0 Status: OK PackageFile: tidyFlowCore_1.0.0.zip PackageFileSize: 787.8 KiB