Package: tRanslatome Version: 1.44.0 Command: F:\biocbuild\bbs-3.20-bioc\R\bin\R.exe CMD check --no-multiarch --install=check:tRanslatome.install-out.txt --library=F:\biocbuild\bbs-3.20-bioc\R\library --no-vignettes --timings tRanslatome_1.44.0.tar.gz StartedAt: 2025-01-31 07:23:03 -0500 (Fri, 31 Jan 2025) EndedAt: 2025-01-31 07:28:53 -0500 (Fri, 31 Jan 2025) EllapsedTime: 350.7 seconds RetCode: 0 Status: OK CheckDir: tRanslatome.Rcheck Warnings: 0