Package: systemPipeShiny Version: 1.16.0 Command: rm -rf systemPipeShiny.buildbin-libdir && mkdir systemPipeShiny.buildbin-libdir && F:\biocbuild\bbs-3.20-bioc\R\bin\R.exe CMD INSTALL --build --library=systemPipeShiny.buildbin-libdir systemPipeShiny_1.16.0.tar.gz StartedAt: 2025-01-31 09:45:31 -0500 (Fri, 31 Jan 2025) EndedAt: 2025-01-31 09:47:00 -0500 (Fri, 31 Jan 2025) EllapsedTime: 89.0 seconds RetCode: 0 Status: OK PackageFile: systemPipeShiny_1.16.0.zip PackageFileSize: 3.603 MiB