Package: systemPipeShiny Version: 1.16.0 Command: /Library/Frameworks/R.framework/Resources/bin/R CMD check --install=check:systemPipeShiny.install-out.txt --library=/Library/Frameworks/R.framework/Resources/library --no-vignettes --timings systemPipeShiny_1.16.0.tar.gz StartedAt: 2025-02-01 11:32:03 -0500 (Sat, 01 Feb 2025) EndedAt: 2025-02-01 11:34:00 -0500 (Sat, 01 Feb 2025) EllapsedTime: 116.9 seconds RetCode: 0 Status: OK CheckDir: systemPipeShiny.Rcheck Warnings: 0