Package: synapter Version: 2.30.0 Command: /home/biocbuild/bbs-3.20-bioc/R/bin/R CMD build --keep-empty-dirs --no-resave-data --md5 synapter StartedAt: 2025-01-30 19:25:05 -0500 (Thu, 30 Jan 2025) EndedAt: 2025-01-30 19:31:03 -0500 (Thu, 30 Jan 2025) EllapsedTime: 357.7 seconds RetCode: 0 Status: OK PackageFile: synapter_2.30.0.tar.gz PackageFileSize: 4.58 MiB